BEGIN:VCALENDAR
METHOD:PUBLISH
X-WR-TIMEZONE:Europe/Berlin
PRODID:https://www.siwitermine.de
CALSCALE:GREGORIAN
VERSION:2.0
BEGIN:VTIMEZONE
TZID:Europe/Berlin
BEGIN:DAYLIGHT
TZOFFSETFROM:+0100
TZOFFSETTO:+0200
DTSTART:19810329T020000
RRULE:FREQ=YEARLY;BYMONTH=3;BYDAY=-1SU
TZNAME:CEST
END:DAYLIGHT
BEGIN:STANDARD
TZOFFSETFROM:+0200
TZOFFSETTO:+0100
DTSTART:19961027T030000
RRULE:FREQ=YEARLY;BYMONTH=10;BYDAY=-1SU
TZNAME:CET
END:STANDARD
END:VTIMEZONE
BEGIN:VEVENT
LOCATION:Viktoria Filmtheater Hilchenbach-Dahlbruch | Bernhard-Weiss-Platz 6
SUMMARY:The Blues Brothers Extended Version | 
DESCRIPTION: (USA 1979, 148 Min., ab 12 Jahren): Die beiden Brüder Jake (John Belushi) und Elwood Blues (Dan Aykroyd) versuchen ihre alte Blues Brothers Band wieder aufleben zu lassen, um mit den Konzerteinnahmen die Steuerschuld für das Waisenhaus zu bezahlen, in dem sie aufgewachsen sind. Die simple Story dient als Aufhänger für eine wilde, ausgelassene Komödie, die sich durch ihre Lust an der Zerstörung, mitreißende Musiknummern und ebenso coole wie schräge Typen auszeichnet: Der Kultfilm-Klassiker gehört seit Jahrzehnten zur DNA des Viktoria Kinos! "Fast jeder kann sich an seine erste Blues Brothers-Vorstellung erinnern, an die vielen Besucher in ihren schwarzen Anzügen und an die tolle Stimmung im Kinosaal!" (Jochen Manderbach) | Info: 02733 61467 | https://www.siwitermine.de/63031 
UID:siwitermine/63031/2026-04-25  
CLASS:PUBLIC
DTSTART;TZID=Europe/Berlin:20260425T190000
DTEND;TZID=Europe/Berlin:20260425T190000
DTSTAMP:20260422T112014
END:VEVENT
END:VCALENDAR
